BEGIN:VCALENDAR
PRODID: -//Microsoft Corporation//Outlook 12.0 MIMEDIR//EN
VERSION:2.0
METHOD:PUBLISH
BEGIN:VEVENT
DTSTART:20260430
DTEND:20260501
LOCATION:
TRANSP:TRANSPARENT
SEQUENCE:0
UID:992
DTSTAMP:20260430T060000Z
DESCRIPTION:
SUMMARY:Trading Update
PRIORITY:5
X-MICROSOFT-CDO-IMPORTANCE:1
CLASS:PUBLIC
X-MICROSOFT-CDO-BUSYSTATUS:
END:VEVENT
END:VCALENDAR
